BEGIN:VCALENDAR
VERSION:2.0
PRODID:-//Jamaica Special Economic Zone Authority - ECPv6.15.17.1//NONSGML v1.0//EN
CALSCALE:GREGORIAN
METHOD:PUBLISH
X-ORIGINAL-URL:https://www.jseza.com
X-WR-CALDESC:Events for Jamaica Special Economic Zone Authority
REFRESH-INTERVAL;VALUE=DURATION:PT1H
X-Robots-Tag:noindex
X-PUBLISHED-TTL:PT1H
BEGIN:VTIMEZONE
TZID:America/Jamaica
BEGIN:STANDARD
TZOFFSETFROM:-0500
TZOFFSETTO:-0500
TZNAME:EST
DTSTART:20240101T000000
END:STANDARD
END:VTIMEZONE
BEGIN:VEVENT
DTSTART;VALUE=DATE:20250123
DTEND;VALUE=DATE:20250124
DTSTAMP:20260421T111140
CREATED:20250121T220239Z
LAST-MODIFIED:20250121T220239Z
UID:7614-1737590400-1737676799@www.jseza.com
SUMMARY:BAC Accelerator Series: Crime & Security
DESCRIPTION:The SEZ Accelerator Series is an initiative lead by the BAC team which aims to facilitate the exchange of knowledge and insights to enhance business operations within the SEZ regime to our existing SEZs\, applicants and potential investors
URL:https://www.jseza.com/event/bac-accelerator-series-crime-security/
END:VEVENT
END:VCALENDAR