BEGIN:VCALENDAR
VERSION:2.0
PRODID:-//Jamaica Special Economic Zone Authority - ECPv6.15.17.1//NONSGML v1.0//EN
CALSCALE:GREGORIAN
METHOD:PUBLISH
X-WR-CALNAME:Jamaica Special Economic Zone Authority
X-ORIGINAL-URL:https://www.jseza.com
X-WR-CALDESC:Events for Jamaica Special Economic Zone Authority
REFRESH-INTERVAL;VALUE=DURATION:PT1H
X-Robots-Tag:noindex
X-PUBLISHED-TTL:PT1H
BEGIN:VTIMEZONE
TZID:America/Jamaica
BEGIN:STANDARD
TZOFFSETFROM:-0500
TZOFFSETTO:-0500
TZNAME:EST
DTSTART:20200101T000000
END:STANDARD
END:VTIMEZONE
BEGIN:VEVENT
DTSTART;TZID=America/Jamaica:20250313T080000
DTEND;TZID=America/Jamaica:20250313T170000
DTSTAMP:20260419T174011
CREATED:20250310T162724Z
LAST-MODIFIED:20250310T162724Z
UID:7715-1741852800-1741885200@www.jseza.com
SUMMARY:JSEZA Site Tours - Manchester and St. Catherine
DESCRIPTION:
URL:https://www.jseza.com/event/jseza-site-tours-manchester-and-st-catherine/
END:VEVENT
BEGIN:VEVENT
DTSTART;TZID=America/Jamaica:20250311T080000
DTEND;TZID=America/Jamaica:20250311T170000
DTSTAMP:20260419T174011
CREATED:20250310T162623Z
LAST-MODIFIED:20250310T162623Z
UID:7713-1741680000-1741712400@www.jseza.com
SUMMARY:JSEZA Site Tours - Kingston
DESCRIPTION:
URL:https://www.jseza.com/event/jseza-site-tours-kingston/
END:VEVENT
BEGIN:VEVENT
DTSTART;VALUE=DATE:20250123
DTEND;VALUE=DATE:20250124
DTSTAMP:20260419T174011
CREATED:20250121T220239Z
LAST-MODIFIED:20250121T220239Z
UID:7614-1737590400-1737676799@www.jseza.com
SUMMARY:BAC Accelerator Series: Crime & Security
DESCRIPTION:The SEZ Accelerator Series is an initiative lead by the BAC team which aims to facilitate the exchange of knowledge and insights to enhance business operations within the SEZ regime to our existing SEZs\, applicants and potential investors
URL:https://www.jseza.com/event/bac-accelerator-series-crime-security/
END:VEVENT
BEGIN:VEVENT
DTSTART;VALUE=DATE:20211001
DTEND;VALUE=DATE:20220401
DTSTAMP:20260419T174011
CREATED:20211007T185126Z
LAST-MODIFIED:20211007T185126Z
UID:3483-1633046400-1648771199@www.jseza.com
SUMMARY:World Expo Dubai
DESCRIPTION:
URL:https://www.jseza.com/event/world-expo-dubai/
END:VEVENT
END:VCALENDAR